BEGIN:VCALENDAR
VERSION:2.0
PRODID:-//Momentum Family - ECPv6.5.1.6//NONSGML v1.0//EN
CALSCALE:GREGORIAN
METHOD:PUBLISH
X-ORIGINAL-URL:https://momentumfamily.ca
X-WR-CALDESC:Events for Momentum Family
REFRESH-INTERVAL;VALUE=DURATION:PT1H
X-Robots-Tag:noindex
X-PUBLISHED-TTL:PT1H
BEGIN:VTIMEZONE
TZID:UTC
BEGIN:STANDARD
TZOFFSETFROM:+0000
TZOFFSETTO:+0000
TZNAME:UTC
DTSTART:20250101T000000
END:STANDARD
END:VTIMEZONE
BEGIN:VEVENT
DTSTART;TZID=UTC:20250121T100000
DTEND;TZID=UTC:20260121T110000
DTSTAMP:20260421T012003
CREATED:20250120T004520Z
LAST-MODIFIED:20250120T004953Z
UID:237-1737453600-1768993200@momentumfamily.ca
SUMMARY:Evento en vivo - Paternidad efectiva - Todos los martes
DESCRIPTION:¡Hola queridos amigos!\nSoy Ángela Chávez\, fundadora de Momentum Family. Facilitadora del Método de Paternidad Efectiva.\nEstoy emocionada de compartirles que participaré en el programa semanal de la emisora Piedra Angular\, donde estaremos explorando el mundo de la paternidad efectiva\, Crianza consciente. 🤔🧠 \nEn cada programa\, te ofreceré consejos prácticos\, técnicas y estrategias para fortalecer el vínculo con tus hijos\, lograr que sean niños felices\, sanos y asi crear un ambiente familiar saludable. 🏠 \n¡CONÉCTATE a nuestro primer programa el martes 21 de enero a las 10:00 am (Hora Toronto Canadá) \n!Es muy fácil unirte: solo escanea el código QR del flyer y listo entrarás. \nJuntos\, formaremos una comunidad de apoyo y crecimiento. \nRECUERDA: Si existe un manual para ser padres!!! \n¡Te espero!
URL:https://momentumfamily.ca/event/evento-en-vivo-paternidad-efectiva-todos-los-martes/
LOCATION:Programa de radio Piedra Angular\, Remote\, Canada
ATTACH;FMTTYPE=image/png:https://momentumfamily.ca/wp-content/uploads/2025/01/MOMENTUN-FAMILY.png
ORGANIZER;CN="Momentum Family":MAILTO:angelachavez@momentumfamily.ca
END:VEVENT
END:VCALENDAR